BEGIN:VCALENDAR
VERSION:2.0
PRODID:-//Van Wagner Music - ECPv6.13.0//NONSGML v1.0//EN
CALSCALE:GREGORIAN
METHOD:PUBLISH
X-ORIGINAL-URL:https://vanwagnermusic.com
X-WR-CALDESC:Events for Van Wagner Music
REFRESH-INTERVAL;VALUE=DURATION:PT1H
X-Robots-Tag:noindex
X-PUBLISHED-TTL:PT1H
BEGIN:VTIMEZONE
TZID:UTC
BEGIN:STANDARD
TZOFFSETFROM:+0000
TZOFFSETTO:+0000
TZNAME:UTC
DTSTART:20260101T000000
END:STANDARD
END:VTIMEZONE
BEGIN:VEVENT
DTSTART;TZID=UTC:20260602T190000
DTEND;TZID=UTC:20260602T210000
DTSTAMP:20260422T205418
CREATED:20260414T124210Z
LAST-MODIFIED:20260414T125929Z
UID:1043-1780426800-1780434000@vanwagnermusic.com
SUMMARY:Memorial Park - Danville
DESCRIPTION:June 2\nMemorial Park\nDanville 7pm
URL:https://vanwagnermusic.com/event/memorial-park-danville/
LOCATION:Memorial Park\, Danville
END:VEVENT
BEGIN:VEVENT
DTSTART;TZID=UTC:20260604T190000
DTEND;TZID=UTC:20260604T210000
DTSTAMP:20260422T205418
CREATED:20260213T141555Z
LAST-MODIFIED:20260414T122425Z
UID:962-1780599600-1780606800@vanwagnermusic.com
SUMMARY:Elk Creek Cafe - CD Realse Party
DESCRIPTION:June 4\, 7-9pm Elk Creek Cafe Millheim PA \nCD release party for the new album Modern Western Ballads featuring performances by the full band!
URL:https://vanwagnermusic.com/event/elk-creek-cafe-3/
LOCATION:Elk Creek Cafe + aleworks. \, 100 W Main St\, Millheim\, PA\, 16854\, United States
END:VEVENT
BEGIN:VEVENT
DTSTART;TZID=UTC:20260611T190000
DTEND;TZID=UTC:20260611T210000
DTSTAMP:20260422T205418
CREATED:20260213T141648Z
LAST-MODIFIED:20260414T123930Z
UID:964-1781204400-1781211600@vanwagnermusic.com
SUMMARY:Paw N Plate - CD Relase Party
DESCRIPTION:June 11\, 7-9pm Paw N Plate\, Riverside PA \nCD release party for the new album Modern Western Ballads featuring performances by the full band!
URL:https://vanwagnermusic.com/event/paw-n-plate/
LOCATION:Paw and Plate\, 699 Elysburg Rd\, Danville\, PA 17821\, Danville
END:VEVENT
BEGIN:VEVENT
DTSTART;TZID=UTC:20260614T180000
DTEND;TZID=UTC:20260614T203000
DTSTAMP:20260422T205418
CREATED:20260325T115701Z
LAST-MODIFIED:20260325T115701Z
UID:999-1781460000-1781469000@vanwagnermusic.com
SUMMARY:Van With Mexico Road
DESCRIPTION:Mexico Road \nBoal City Brewing Co.  Boalsburg PA \n6-8:30pm \n 
URL:https://vanwagnermusic.com/event/van-with-mexico-road/
LOCATION:Boal City Brewing Co.\, 281 Old Boalsburg Rd\, Boalsburg\, Pennsylvania\, 16827
END:VEVENT
END:VCALENDAR