BEGIN:VCALENDAR
VERSION:2.0
PRODID:-//Van Wagner Music - ECPv6.13.0//NONSGML v1.0//EN
CALSCALE:GREGORIAN
METHOD:PUBLISH
X-ORIGINAL-URL:https://vanwagnermusic.com
X-WR-CALDESC:Events for Van Wagner Music
REFRESH-INTERVAL;VALUE=DURATION:PT1H
X-Robots-Tag:noindex
X-PUBLISHED-TTL:PT1H
BEGIN:VTIMEZONE
TZID:UTC
BEGIN:STANDARD
TZOFFSETFROM:+0000
TZOFFSETTO:+0000
TZNAME:UTC
DTSTART:20260101T000000
END:STANDARD
END:VTIMEZONE
BEGIN:VEVENT
DTSTART;TZID=UTC:20260730T180000
DTEND;TZID=UTC:20260730T200000
DTSTAMP:20260423T001736
CREATED:20260408T145204Z
LAST-MODIFIED:20260408T145204Z
UID:1004-1785434400-1785441600@vanwagnermusic.com
SUMMARY:Hublersburg Inn
DESCRIPTION:July 30 \nHublersburg Inn \n6-8pm \nhttps://www.hublersburginn.com/ \n 
URL:https://vanwagnermusic.com/event/hublersburg-inn/
LOCATION:Hublersburg Inn\, 449 Hublersburg Rd\, Howard\, PA\, 16841\, United States
END:VEVENT
END:VCALENDAR