BEGIN:VCALENDAR
VERSION:2.0
PRODID:-//Van Wagner Music - ECPv6.13.0//NONSGML v1.0//EN
CALSCALE:GREGORIAN
METHOD:PUBLISH
X-ORIGINAL-URL:https://vanwagnermusic.com
X-WR-CALDESC:Events for Van Wagner Music
REFRESH-INTERVAL;VALUE=DURATION:PT1H
X-Robots-Tag:noindex
X-PUBLISHED-TTL:PT1H
BEGIN:VTIMEZONE
TZID:UTC
BEGIN:STANDARD
TZOFFSETFROM:+0000
TZOFFSETTO:+0000
TZNAME:UTC
DTSTART:20260101T000000
END:STANDARD
END:VTIMEZONE
BEGIN:VEVENT
DTSTART;TZID=UTC:20260726T140000
DTEND;TZID=UTC:20260726T160000
DTSTAMP:20260423T001743
CREATED:20260213T143654Z
LAST-MODIFIED:20260213T143654Z
UID:985-1785074400-1785081600@vanwagnermusic.com
SUMMARY:Farrandsville Iron Furnace - Lock Haven
DESCRIPTION:July 26\, 2pm Farrandsville Furnace Lock Haven PA
URL:https://vanwagnermusic.com/event/farrandsville-iron-furnace-lock-haven/
LOCATION:Farrandsville Furnace\, Lock Haven\, PA\, United States
END:VEVENT
END:VCALENDAR