BEGIN:VCALENDAR
VERSION:2.0
PRODID:-//Van Wagner Music - ECPv6.13.0//NONSGML v1.0//EN
CALSCALE:GREGORIAN
METHOD:PUBLISH
X-WR-CALNAME:Van Wagner Music
X-ORIGINAL-URL:https://vanwagnermusic.com
X-WR-CALDESC:Events for Van Wagner Music
REFRESH-INTERVAL;VALUE=DURATION:PT1H
X-Robots-Tag:noindex
X-PUBLISHED-TTL:PT1H
BEGIN:VTIMEZONE
TZID:UTC
BEGIN:STANDARD
TZOFFSETFROM:+0000
TZOFFSETTO:+0000
TZNAME:UTC
DTSTART:20260101T000000
END:STANDARD
END:VTIMEZONE
BEGIN:VEVENT
DTSTART;TZID=UTC:20260711T130000
DTEND;TZID=UTC:20260711T150000
DTSTAMP:20260423T001609
CREATED:20260213T143124Z
LAST-MODIFIED:20260213T143124Z
UID:977-1783774800-1783782000@vanwagnermusic.com
SUMMARY:Eagles Mere Antique Show
DESCRIPTION:July 11\, 1-3pm Eagles Mere Antique Show.
URL:https://vanwagnermusic.com/event/eagles-mere-antique-show/
LOCATION:Eagles Mere Antique Show\, 288 Eagles Mere Ave\, Eagles Mere\, PA\, 17731\, United States
END:VEVENT
BEGIN:VEVENT
DTSTART;TZID=UTC:20260711T160000
DTEND;TZID=UTC:20260711T180000
DTSTAMP:20260423T001609
CREATED:20260213T143322Z
LAST-MODIFIED:20260213T143339Z
UID:980-1783785600-1783792800@vanwagnermusic.com
SUMMARY:Forksville Inn
DESCRIPTION:July 11\, 4-6pm Forksville Inn
URL:https://vanwagnermusic.com/event/forksville-inn/
LOCATION:Forksville Inn\, 5048 PA-87\, Forksville\, PA\, 18616\, United States
END:VEVENT
END:VCALENDAR