BEGIN:VCALENDAR
VERSION:2.0
PRODID:-//Van Wagner Music - ECPv6.13.0//NONSGML v1.0//EN
CALSCALE:GREGORIAN
METHOD:PUBLISH
X-WR-CALNAME:Van Wagner Music
X-ORIGINAL-URL:https://vanwagnermusic.com
X-WR-CALDESC:Events for Van Wagner Music
REFRESH-INTERVAL;VALUE=DURATION:PT1H
X-Robots-Tag:noindex
X-PUBLISHED-TTL:PT1H
BEGIN:VTIMEZONE
TZID:UTC
BEGIN:STANDARD
TZOFFSETFROM:+0000
TZOFFSETTO:+0000
TZNAME:UTC
DTSTART:20260101T000000
END:STANDARD
END:VTIMEZONE
BEGIN:VEVENT
DTSTART;TZID=UTC:20260702T190000
DTEND;TZID=UTC:20260702T210000
DTSTAMP:20260422T223253
CREATED:20260213T141846Z
LAST-MODIFIED:20260213T141846Z
UID:966-1783018800-1783026000@vanwagnermusic.com
SUMMARY:Elk Creek Cafe
DESCRIPTION:July 2\, 7-9pm Elk Creek Cafe Millheim PA
URL:https://vanwagnermusic.com/event/elk-creek-cafe-4/
LOCATION:Elk Creek Cafe + aleworks. \, 100 W Main St\, Millheim\, PA\, 16854\, United States
END:VEVENT
END:VCALENDAR