BEGIN:VCALENDAR
VERSION:2.0
PRODID:-//Van Wagner Music - ECPv6.13.0//NONSGML v1.0//EN
CALSCALE:GREGORIAN
METHOD:PUBLISH
X-WR-CALNAME:Van Wagner Music
X-ORIGINAL-URL:https://vanwagnermusic.com
X-WR-CALDESC:Events for Van Wagner Music
REFRESH-INTERVAL;VALUE=DURATION:PT1H
X-Robots-Tag:noindex
X-PUBLISHED-TTL:PT1H
BEGIN:VTIMEZONE
TZID:UTC
BEGIN:STANDARD
TZOFFSETFROM:+0000
TZOFFSETTO:+0000
TZNAME:UTC
DTSTART:20260101T000000
END:STANDARD
END:VTIMEZONE
BEGIN:VEVENT
DTSTART;TZID=UTC:20260611T190000
DTEND;TZID=UTC:20260611T210000
DTSTAMP:20260422T223343
CREATED:20260213T141648Z
LAST-MODIFIED:20260414T123930Z
UID:964-1781204400-1781211600@vanwagnermusic.com
SUMMARY:Paw N Plate - CD Relase Party
DESCRIPTION:June 11\, 7-9pm Paw N Plate\, Riverside PA \nCD release party for the new album Modern Western Ballads featuring performances by the full band!
URL:https://vanwagnermusic.com/event/paw-n-plate/
LOCATION:Paw and Plate\, 699 Elysburg Rd\, Danville\, PA 17821\, Danville
END:VEVENT
END:VCALENDAR