BEGIN:VCALENDAR
VERSION:2.0
PRODID:-//Van Wagner Music - ECPv6.13.0//NONSGML v1.0//EN
CALSCALE:GREGORIAN
METHOD:PUBLISH
X-ORIGINAL-URL:https://vanwagnermusic.com
X-WR-CALDESC:Events for Van Wagner Music
REFRESH-INTERVAL;VALUE=DURATION:PT1H
X-Robots-Tag:noindex
X-PUBLISHED-TTL:PT1H
BEGIN:VTIMEZONE
TZID:UTC
BEGIN:STANDARD
TZOFFSETFROM:+0000
TZOFFSETTO:+0000
TZNAME:UTC
DTSTART:20260101T000000
END:STANDARD
END:VTIMEZONE
BEGIN:VEVENT
DTSTART;TZID=UTC:20260517T170000
DTEND;TZID=UTC:20260517T190000
DTSTAMP:20260422T205259
CREATED:20260213T140303Z
LAST-MODIFIED:20260213T140303Z
UID:943-1779037200-1779044400@vanwagnermusic.com
SUMMARY:California Grange (near Milton PA) - With Mexico Road
DESCRIPTION:May 17 5pm.  California Grange (near Milton PA)
URL:https://vanwagnermusic.com/event/california-grange-near-milton-pa-with-mexico-road/
LOCATION:California Grange\, California Rd\,\, Watsontown\, PA\, 17777\, United States
END:VEVENT
END:VCALENDAR